BEGIN:VCALENDAR
VERSION:2.0
PRODID:-//eventon.com NONSGML v1.0//EN
CALSCALE:GREGORIAN
METHOD:PUBLISH
BEGIN:VEVENT
UID:69e62e40051bc
DTSTAMP:20260420T134640Z
DTSTART:20260505
DTEND:20260506
LOCATION:Collège
SUMMARY:Big Challenge
DESCRIPTION:\nhttps://sainte-marie-melun.org/events/big-challenge/
URL:https://sainte-marie-melun.org/events/big-challenge/
END:VEVENT
END:VCALENDAR