BEGIN:VCALENDAR
VERSION:2.0
PRODID:-//eventon.com NONSGML v1.0//EN
CALSCALE:GREGORIAN
METHOD:PUBLISH
BEGIN:VEVENT
UID:69e60f555addd
DTSTAMP:20260420T113445Z
DTSTART:20260512
DTEND:20260513
LOCATION:Collège
SUMMARY:Voyage en Irlande - 4ème
DESCRIPTION:\nhttps://sainte-marie-melun.org/events/voyage-en-irlande-4eme/
URL:https://sainte-marie-melun.org/events/voyage-en-irlande-4eme/
END:VEVENT
END:VCALENDAR