BEGIN:VCALENDAR
VERSION:2.0
PRODID:-//eventon.com NONSGML v1.0//EN
CALSCALE:GREGORIAN
METHOD:PUBLISH
BEGIN:VEVENT
UID:69e7470d3f92c
DTSTAMP:20260421T094445Z
DTSTART:20260522
DTEND:20260523
LOCATION:Collège
SUMMARY:FRAT
DESCRIPTION:\nhttps://sainte-marie-melun.org/events/frat/
URL:https://sainte-marie-melun.org/events/frat/
END:VEVENT
END:VCALENDAR