BEGIN:VCALENDAR
VERSION:2.0
PRODID:-//eventon.com NONSGML v1.0//EN
CALSCALE:GREGORIAN
METHOD:PUBLISH
BEGIN:VEVENT
UID:69e88d6d7348f
DTSTAMP:20260422T085717Z
DTSTART:20240429
DTEND:20240430
LOCATION:Institution Sainte-Marie 10 boulevard Gambetta - MELUN
SUMMARY:ASSR1 (5ème)
DESCRIPTION:\nhttps://sainte-marie-melun.org/events/assr1-5eme/
URL:https://sainte-marie-melun.org/events/assr1-5eme/
END:VEVENT
END:VCALENDAR